BEGIN:VCALENDAR
VERSION:2.0
PRODID:-//EAA Chapter 92 - ECPv5.14.1//NONSGML v1.0//EN
CALSCALE:GREGORIAN
METHOD:PUBLISH
X-WR-CALNAME:EAA Chapter 92
X-ORIGINAL-URL:https://www.eaa92.org
X-WR-CALDESC:Events for EAA Chapter 92
BEGIN:VTIMEZONE
TZID:America/Los_Angeles
BEGIN:DAYLIGHT
TZOFFSETFROM:-0800
TZOFFSETTO:-0700
TZNAME:PDT
DTSTART:20220313T100000
END:DAYLIGHT
BEGIN:STANDARD
TZOFFSETFROM:-0700
TZOFFSETTO:-0800
TZNAME:PST
DTSTART:20221106T090000
END:STANDARD
END:VTIMEZONE
BEGIN:VEVENT
DTSTART;TZID=America/Los_Angeles:20220705T190000
DTEND;TZID=America/Los_Angeles:20220705T210000
DTSTAMP:20260423T075708
CREATED:20220624T153136Z
LAST-MODIFIED:20220627T135250Z
UID:3379-1657047600-1657054800@www.eaa92.org
SUMMARY:July EAA92 Meeting - Wings Event - IMC Club with Rob Reddeg and Jay Steffenhagen
DESCRIPTION:For our July EAA Chapter 92 meeting\, we will reprise a recent presentation by Rob Reddeg of SoCal TRACON for the Bracket IMC Club\, supplemented by discussions guided by an experienced local flight instructor\, Jay Steffenhagen. \nRob Reddeg (National Air Traffic Controllers Association) will be presenting ATC operations in the Southern California area. This will be a great opportunity to review local concerns and listen to discussions with Rob of possible alternatives that might be available to instrument pilots looking to improve their proficiency through practice approaches. \nMEETING DETAILS: \nTHIS IS A WINGS EVENT:  Sign up for WINGS credit at www.FAASafety.gov \nThis in-person meeting will be held at the IRWD Community Room at 15500 Sand Canyon Ave in Irvine.  Please be prepared to follow Orange County Covid guidelines in place at that time. \nHangar Talk social period: 6:30 to 7:00 PM \nMeeting begins at 7:00 PM \nPresentation begins approx 7:15 PM
URL:https://www.eaa92.org/event/wings-event-july-5-2022-imc-club-with-rob-reddeg-and-jay-steffenhagen/
LOCATION:Irvine Ranch Water District Community Meeting Room\, 15500 Sand Canyon Ave\, Irvine\, CA\, 92618\, United States
CATEGORIES:Monthly Meetings
ATTACH;FMTTYPE=image/jpeg:https://www.eaa92.org/wp-content/uploads/2019/07/IRWD_PA_Community_002.jpg
ORGANIZER;CN="EAA%2092":MAILTO:President@EAA92.org
END:VEVENT
END:VCALENDAR