BEGIN:VCALENDAR
VERSION:2.0
PRODID:-//EAA Chapter 92 - ECPv5.14.1//NONSGML v1.0//EN
CALSCALE:GREGORIAN
METHOD:PUBLISH
X-WR-CALNAME:EAA Chapter 92
X-ORIGINAL-URL:https://www.eaa92.org
X-WR-CALDESC:Events for EAA Chapter 92
BEGIN:VTIMEZONE
TZID:America/Los_Angeles
BEGIN:DAYLIGHT
TZOFFSETFROM:-0800
TZOFFSETTO:-0700
TZNAME:PDT
DTSTART:20220313T100000
END:DAYLIGHT
BEGIN:STANDARD
TZOFFSETFROM:-0700
TZOFFSETTO:-0800
TZNAME:PST
DTSTART:20221106T090000
END:STANDARD
END:VTIMEZONE
BEGIN:VEVENT
DTSTART;TZID=America/Los_Angeles:20220201T190000
DTEND;TZID=America/Los_Angeles:20220201T210000
DTSTAMP:20260423T123204
CREATED:20211228T015235Z
LAST-MODIFIED:20220117T203418Z
UID:3214-1643742000-1643749200@www.eaa92.org
SUMMARY:Feb General Meeting - WHAT THE CHIEF INSTRUCTOR SEES with Jay Mason
DESCRIPTION:– – Words of wisdom from the Chief Instructor at a busy flight school – – \nThe job of a Chief Flight Instructor entails being a source of inspiration and oversight for all the instructors and students at a flight school. As such\, our speaker tonight – Jay Mason – gets an opportunity to see all the sorts of struggles you might imagine – and probably some you can’t! Whether you’re a student pilot just starting out\, an old hand coming in for some recurrent training\, or use your own freelance instructor\, some common issues and questions always seem to come up\, and Jay can help you get a handle on them and be better prepared for your next visit. \nTHIS IS A WINGS EVENT:  Sign up for WINGS credit at www.FAASafety.gov \nHangar Talk social period – 6:30 to 7:00 PM \nMeeting starts promptly at 7:00 PM \nPresentation begins approx. 7:15 PM \nThis in-person meeting will be held at the IRWD Community Room at 15500 Sand Canyon Ave in Irvine.  Please be prepared to follow Orange County Covid guidelines in place at that time.
URL:https://www.eaa92.org/event/feb-general-meeting-what-the-chief-instructor-sees-with-jay-mason/
LOCATION:Irvine Ranch Water District Community Meeting Room\, 15500 Sand Canyon Ave\, Irvine\, CA\, 92618\, United States
CATEGORIES:Monthly Meetings
ATTACH;FMTTYPE=image/jpeg:https://www.eaa92.org/wp-content/uploads/2019/07/IRWD_PA_Community_002.jpg
ORGANIZER;CN="EAA%2092":MAILTO:President@EAA92.org
END:VEVENT
END:VCALENDAR