BEGIN:VCALENDAR
VERSION:2.0
PRODID:-//EAA Chapter 92 - ECPv5.14.1//NONSGML v1.0//EN
CALSCALE:GREGORIAN
METHOD:PUBLISH
X-WR-CALNAME:EAA Chapter 92
X-ORIGINAL-URL:https://www.eaa92.org
X-WR-CALDESC:Events for EAA Chapter 92
BEGIN:VTIMEZONE
TZID:America/Los_Angeles
BEGIN:DAYLIGHT
TZOFFSETFROM:-0800
TZOFFSETTO:-0700
TZNAME:PDT
DTSTART:20220313T100000
END:DAYLIGHT
BEGIN:STANDARD
TZOFFSETFROM:-0700
TZOFFSETTO:-0800
TZNAME:PST
DTSTART:20221106T090000
END:STANDARD
END:VTIMEZONE
BEGIN:VEVENT
DTSTART;TZID=America/Los_Angeles:20220821T160000
DTEND;TZID=America/Los_Angeles:20220821T190000
DTSTAMP:20260423T062836
CREATED:20190716T003348Z
LAST-MODIFIED:20220710T230209Z
UID:1782-1661097600-1661108400@www.eaa92.org
SUMMARY:Annual Summer BBQ
DESCRIPTION:Join us this summer to watch the sunset over beautiful Chino Airport. This event is free for EAA92 members\, Young Eagles pilots\, guests\, and SoCal Pilots Assoc. members and their guests. In other words\, all who have an interest in supporting aviation\, especially Chino pilots and tenants\, are invited. We will be providing barbecue and soft drinks. \nWe ask that if your last name starts with a letter A to M\, then you bring a salad\, and we ask that if you last names starts with a letter N to Z\, then you bring dessert. This is a Sunday event that replaces our regular August meeting. \nThe barbecue will take place at the Cal Aero hangar. . You may park along Cal Aero Dr. and use the pedestrian gate if you do not have drive-in access to the airport. \nPlease sign-up by August 19 so we can plan accordingly. \n\n  \n\n\n\n\n\n\n\n\n\n\n\n\n\n\n\n\nThis site is protected by reCAPTCHA and the Google Privacy Policy and Terms of Service apply. \n  \nΔ ×
URL:https://www.eaa92.org/event/annual-summer-bbq/
LOCATION:Cal Aero Hanger – Chino Airport\, 14925 Cal Aero Drive B-181\, Chino\, CA\, 91710\, United States
CATEGORIES:Special Events
ATTACH;FMTTYPE=image/jpeg:https://www.eaa92.org/wp-content/uploads/2019/07/Untitled-13.jpg
END:VEVENT
END:VCALENDAR